BEGIN:VCALENDAR
VERSION:2.0
PRODID:-//Plone.org//NONSGML plone.app.event//EN
X-WR-TIMEZONE:Brazil/East
BEGIN:VEVENT
SUMMARY:Sessão Plenária
DTSTART;TZID=Brazil/East;VALUE=DATE-TIME:20260525T190000
DTSTAMP;VALUE=DATE-TIME:20260424T161526Z
UID:b470cb431d4341cd8552d6b883c91890@www.novabassano.rs.leg.br
CREATED;VALUE=DATE-TIME:20260424T134537Z
DESCRIPTION:O presidente da Câmara Municipal de Nova Prata\, vereador con
 vida para  Sessão Plenária
LAST-MODIFIED;VALUE=DATE-TIME:20260424T134543Z
LOCATION:Plenário da Câmara
URL:https://www.novabassano.rs.leg.br/institucional/eventos/sessao-plenari
 a/2026-05-25
END:VEVENT
BEGIN:VTIMEZONE
TZID:Brazil/East
X-LIC-LOCATION:Brazil/East
BEGIN:STANDARD
DTSTART;VALUE=DATE-TIME:20260221T230000
TZNAME:BRT
TZOFFSETFROM:-0200
TZOFFSETTO:-0300
END:STANDARD
END:VTIMEZONE
END:VCALENDAR
